BEGIN:VCALENDAR
VERSION:2.0
PRODID:-//Seabrook SDA Church - ECPv5.1.0//NONSGML v1.0//EN
CALSCALE:GREGORIAN
METHOD:PUBLISH
X-WR-CALNAME:Seabrook SDA Church
X-ORIGINAL-URL:https://seabrooksda.org
X-WR-CALDESC:Events for Seabrook SDA Church
BEGIN:VTIMEZONE
TZID:America/New_York
BEGIN:DAYLIGHT
TZOFFSETFROM:-0500
TZOFFSETTO:-0400
TZNAME:EDT
DTSTART:20250309T070000
END:DAYLIGHT
BEGIN:STANDARD
TZOFFSETFROM:-0400
TZOFFSETTO:-0500
TZNAME:EST
DTSTART:20251102T060000
END:STANDARD
END:VTIMEZONE
BEGIN:VEVENT
DTSTART;VALUE=DATE:20250331
DTEND;VALUE=DATE:20250401
DTSTAMP:20260423T201409
CREATED:20250226T023836Z
LAST-MODIFIED:20251213T010308Z
UID:5381-1743379200-1743465599@seabrooksda.org
SUMMARY:Career Coaching
DESCRIPTION:Seabrook SDA Community Relations Department Needs You:\nDo you have experience writing resumes\, interviewing job applicants or hiring? \nIf so\, consider volunteering. Text your contact information to (301) 828-7741. \n
URL:https://seabrooksda.org/event/career-coaching/
LOCATION:Online
CATEGORIES:Community,Online
END:VEVENT
END:VCALENDAR