BEGIN:VCALENDAR
VERSION:2.0
PRODID:-//Seabrook SDA Church - ECPv5.1.0//NONSGML v1.0//EN
CALSCALE:GREGORIAN
METHOD:PUBLISH
X-WR-CALNAME:Seabrook SDA Church
X-ORIGINAL-URL:https://seabrooksda.org
X-WR-CALDESC:Events for Seabrook SDA Church
BEGIN:VTIMEZONE
TZID:America/New_York
BEGIN:DAYLIGHT
TZOFFSETFROM:-0500
TZOFFSETTO:-0400
TZNAME:EDT
DTSTART:20250309T070000
END:DAYLIGHT
BEGIN:STANDARD
TZOFFSETFROM:-0400
TZOFFSETTO:-0500
TZNAME:EST
DTSTART:20251102T060000
END:STANDARD
END:VTIMEZONE
BEGIN:VEVENT
DTSTART;TZID=America/New_York:20251220T110000
DTEND;TZID=America/New_York:20251220T123000
DTSTAMP:20260423T174535
CREATED:20251213T011651Z
LAST-MODIFIED:20251213T021525Z
UID:5601-1766228400-1766233800@seabrooksda.org
SUMMARY:Christmas Worship Service
DESCRIPTION:Join us this Christmas for a special worship service at the Seabrook Seventh-day Adventist Church as we celebrate the birth of Jesus Christ and the hope\, peace\, and joy of the season. We warmly invite you\, your family\, and friends to be part of a loving community of believers\, and all of our services are open to the public. \nWhen: Saturdays\, 11:00 am – 12:30 pm\nLocation: Seabrook Activity Center (8888 Good Luck Road\, Lanham MD 20706) \nOnline Worship Service\nWe have an online worship service for those that are unable to attend in person.  Our online worship program takes place every Saturday at 11:00 am ET and can be found on our communication platforms below: \nYouTube: (www.youtube.com/c/SeabrookSDAChurch)\nFacebook: (https://www.facebook.com/seabrooksdachurch\nChurch Website: (SeabrookSDA.org- click the Watch Live tab) \n
URL:https://seabrooksda.org/event/glory-to-the-newborn-king/
LOCATION:Seabrook SDA Church\, 8900 Good Luck Road\, Lanham\, MD\, 20706
CATEGORIES:In-Person,Online
ATTACH;FMTTYPE=image/jpeg:https://seabrooksda.org/wp-content/uploads/2025/12/Web_Photo_Editor-3.jpg
END:VEVENT
END:VCALENDAR