BEGIN:VCALENDAR
VERSION:2.0
PRODID:-//Seabrook SDA Church - ECPv5.1.0//NONSGML v1.0//EN
CALSCALE:GREGORIAN
METHOD:PUBLISH
X-WR-CALNAME:Seabrook SDA Church
X-ORIGINAL-URL:https://seabrooksda.org
X-WR-CALDESC:Events for Seabrook SDA Church
BEGIN:VTIMEZONE
TZID:America/New_York
BEGIN:DAYLIGHT
TZOFFSETFROM:-0500
TZOFFSETTO:-0400
TZNAME:EDT
DTSTART:20250309T070000
END:DAYLIGHT
BEGIN:STANDARD
TZOFFSETFROM:-0400
TZOFFSETTO:-0500
TZNAME:EST
DTSTART:20251102T060000
END:STANDARD
END:VTIMEZONE
BEGIN:VEVENT
DTSTART;TZID=America/New_York:20251231T160000
DTEND;TZID=America/New_York:20251231T190000
DTSTAMP:20260423T174831
CREATED:20251213T000629Z
LAST-MODIFIED:20251213T020850Z
UID:5583-1767196800-1767207600@seabrooksda.org
SUMMARY:New Year's Candlelight Communion Prayer Service
DESCRIPTION:Celebrate the New Year with us. Attend our annual candlelight communion service on Wednesday\, Dec. 31st at 4 p.m. Plan to stay afterwards to fellowship with one another as we celebrate a new year in Christ with an Agape Feast immediately after communion. \n
URL:https://seabrooksda.org/event/new-years-candlelight-communion-prayer-service/
LOCATION:Seabrook SDA Church\, 8900 Good Luck Road\, Lanham\, MD\, 20706
CATEGORIES:In-Person,Online
ATTACH;FMTTYPE=image/jpeg:https://seabrooksda.org/wp-content/uploads/2025/12/Web_Photo_Editor-1.jpg
END:VEVENT
END:VCALENDAR