BEGIN:VCALENDAR
VERSION:2.0
PRODID:-//Seabrook SDA Church - ECPv5.1.0//NONSGML v1.0//EN
CALSCALE:GREGORIAN
METHOD:PUBLISH
X-WR-CALNAME:Seabrook SDA Church
X-ORIGINAL-URL:https://seabrooksda.org
X-WR-CALDESC:Events for Seabrook SDA Church
BEGIN:VTIMEZONE
TZID:America/New_York
BEGIN:DAYLIGHT
TZOFFSETFROM:-0500
TZOFFSETTO:-0400
TZNAME:EDT
DTSTART:20260308T070000
END:DAYLIGHT
BEGIN:STANDARD
TZOFFSETFROM:-0400
TZOFFSETTO:-0500
TZNAME:EST
DTSTART:20261101T060000
END:STANDARD
END:VTIMEZONE
BEGIN:VEVENT
DTSTART;TZID=America/New_York:20260103T180000
DTEND;TZID=America/New_York:20260103T200000
DTSTAMP:20260423T185247
CREATED:20251213T004014Z
LAST-MODIFIED:20251231T003310Z
UID:5597-1767463200-1767470400@seabrooksda.org
SUMMARY:New Year's Prayer Vigil - Save the Date!
DESCRIPTION:Start 2026 on a spiritual high and save the date! Join us on Sabbath\, Jan. 3rd at 6:00 pm for our very first Prayer Vigil of 2026. Attend this wonderful\, spirit-filled program themed\, “When My People Pray”. Inspiring messages will help jump-start your new year. Prepare your heart for 2026 with an evening of prayer\, praise\, and worship. More details are on the way. We can’t wait to see you there! \n
URL:https://seabrooksda.org/event/new-years-prayer-vigil-save-the-date/
LOCATION:Seabrook SDA Church\, 8900 Good Luck Road\, Lanham\, MD\, 20706
ATTACH;FMTTYPE=image/jpeg:https://seabrooksda.org/wp-content/uploads/2025/12/image000000-2.jpg
END:VEVENT
END:VCALENDAR