BEGIN:VCALENDAR
VERSION:2.0
PRODID:-//Seabrook SDA Church - ECPv5.1.0//NONSGML v1.0//EN
CALSCALE:GREGORIAN
METHOD:PUBLISH
X-WR-CALNAME:Seabrook SDA Church
X-ORIGINAL-URL:https://seabrooksda.org
X-WR-CALDESC:Events for Seabrook SDA Church
BEGIN:VTIMEZONE
TZID:America/New_York
BEGIN:DAYLIGHT
TZOFFSETFROM:-0500
TZOFFSETTO:-0400
TZNAME:EDT
DTSTART:20230312T070000
END:DAYLIGHT
BEGIN:STANDARD
TZOFFSETFROM:-0400
TZOFFSETTO:-0500
TZNAME:EST
DTSTART:20231105T060000
END:STANDARD
END:VTIMEZONE
BEGIN:VEVENT
DTSTART;TZID=America/New_York:20230827T120000
DTEND;TZID=America/New_York:20230827T160000
DTSTAMP:20260423T190114
CREATED:20230819T014617Z
LAST-MODIFIED:20230819T014617Z
UID:4852-1693137600-1693152000@seabrooksda.org
SUMMARY:Taste of Seabrook
DESCRIPTION:Join us for Taste of Seabrook our annual event where you’ll get a chance to experience cuisine from around the world. We’ll also have vendors & activities for children.  All are invited! \nDate: August 27th 2023\nTime: 12pm – 4pm\nLocation: 8900 Good Luck Road Lanham\, MD 20706\nCost: $20.00 Adults & $10.00 Children 12 & under \n
URL:https://seabrooksda.org/event/taste-of-seabrook/
LOCATION:Seabrook SDA Church\, 8900 Good Luck Road\, Lanham\, MD\, 20706
CATEGORIES:Food
ATTACH;FMTTYPE=image/jpeg:https://seabrooksda.org/wp-content/uploads/2023/08/International-6-×-4-in.jpg
END:VEVENT
END:VCALENDAR