BEGIN:VCALENDAR
VERSION:2.0
PRODID:-//Seabrook SDA Church - ECPv5.1.0//NONSGML v1.0//EN
CALSCALE:GREGORIAN
METHOD:PUBLISH
X-WR-CALNAME:Seabrook SDA Church
X-ORIGINAL-URL:https://seabrooksda.org
X-WR-CALDESC:Events for Seabrook SDA Church
BEGIN:VTIMEZONE
TZID:America/New_York
BEGIN:DAYLIGHT
TZOFFSETFROM:-0500
TZOFFSETTO:-0400
TZNAME:EDT
DTSTART:20230312T070000
END:DAYLIGHT
BEGIN:STANDARD
TZOFFSETFROM:-0400
TZOFFSETTO:-0500
TZNAME:EST
DTSTART:20231105T060000
END:STANDARD
END:VTIMEZONE
BEGIN:VEVENT
DTSTART;TZID=America/New_York:20230204T100000
DTEND;TZID=America/New_York:20230204T123000
DTSTAMP:20260423T201558
CREATED:20201106T172216Z
LAST-MODIFIED:20230201T233749Z
UID:2645-1675504800-1675513800@seabrooksda.org
SUMMARY:Kids V.I.B.E.S. Church
DESCRIPTION:Kids V.I.B.E.S. allows us to cater to young minds about important life lessons they will need to grow into healthy responsible adults. Kids V.I.B.E.S. provides fun experiences through song\, theatre\, crafts and more\, and teaches children about their Best Friend and Savior- Jesus! \nRSVP for your child here! \nFeel free to email your questions to us at Children@seabrooksda.org.  We look forward to seeing you this Sabbath. \n  \n  \n
URL:https://seabrooksda.org/event/virtual-childrens-church/
LOCATION:Seabrook Activity Center\, 8888 Good Luck Road\, Lanham\, MD\, 20706
CATEGORIES:Children,Online
ATTACH;FMTTYPE=image/jpeg:https://seabrooksda.org/wp-content/uploads/2021/12/Copy-of-Orange-Yellow-and-White-SchoolRemote-Learning-169-Video-6-x-4-in.jpg
END:VEVENT
END:VCALENDAR