BEGIN:VCALENDAR
VERSION:2.0
PRODID:-//Seabrook SDA Church - ECPv5.1.0//NONSGML v1.0//EN
CALSCALE:GREGORIAN
METHOD:PUBLISH
X-WR-CALNAME:Seabrook SDA Church
X-ORIGINAL-URL:https://seabrooksda.org
X-WR-CALDESC:Events for Seabrook SDA Church
BEGIN:VTIMEZONE
TZID:America/New_York
BEGIN:DAYLIGHT
TZOFFSETFROM:-0500
TZOFFSETTO:-0400
TZNAME:EDT
DTSTART:20260308T070000
END:DAYLIGHT
BEGIN:STANDARD
TZOFFSETFROM:-0400
TZOFFSETTO:-0500
TZNAME:EST
DTSTART:20261101T060000
END:STANDARD
END:VTIMEZONE
BEGIN:VEVENT
DTSTART;VALUE=DATE:20260720
DTEND;VALUE=DATE:20260801
DTSTAMP:20260423T115003
CREATED:20260222T010733Z
LAST-MODIFIED:20260303T002728Z
UID:5857-1784505600-1785542399@seabrooksda.org
SUMMARY:KidVentures Camp — Coming Soon!
DESCRIPTION:KidVentures Camp — Coming Soon! \nHey Kids! Who’s ready for a summer of rip-roarin’ fun?! Join us for summer camp on July 20-24 and July 27-31 as we adventure into God’s word and God’s love. Kids will enjoy exciting stories and games\, fun crafts\, and tasty food. You won’t want to miss what Summer Camp has in store! Register by March 30th for the best pricing of $200 per child per week! Check out our webpage for more info or to register: https://seabrooksda.org/kidventures-camp-2026/ \n
URL:https://seabrooksda.org/event/kidventures-camp-coming-soon/
LOCATION:Seabrook SDA Church\, 8900 Good Luck Road\, Lanham\, MD\, 20706
CATEGORIES:In-Person
ATTACH;FMTTYPE=image/png:https://seabrooksda.org/wp-content/uploads/2026/02/image.png
END:VEVENT
END:VCALENDAR